BEGIN:VCALENDAR
VERSION:2.0
PRODID:-//Devpost\, Inc.//Build with AI 2026 x MLH Hackathon in Ahlen//EN
CALSCALE:GREGORIAN
BEGIN:VTIMEZONE
TZID:Europe/Helsinki
BEGIN:DAYLIGHT
DTSTART:20260329T040000
TZOFFSETFROM:+0200
TZOFFSETTO:+0300
RRULE:FREQ=YEARLY;BYDAY=-1SU;BYMONTH=3
TZNAME:EEST
END:DAYLIGHT
BEGIN:STANDARD
DTSTART:20261025T030000
TZOFFSETFROM:+0300
TZOFFSETTO:+0200
RRULE:FREQ=YEARLY;BYDAY=-1SU;BYMONTH=10
TZNAME:EET
END:STANDARD
END:VTIMEZONE
BEGIN:VEVENT
DTSTAMP:20260423T091243Z
UID:13b58e01-2c5f-4c93-ad93-c87f8f6dd362
DTSTART;TZID=Europe/Helsinki:20260523T170000
DTEND;TZID=Europe/Helsinki:20260523T190000
DESCRIPTION:https://build-with-ai-mlh-ahlen.devpost.com/
LOCATION:Königstraße 7\, 59227 Ahlen\, Germany
SUMMARY:Build with AI 2026 x MLH Hackathon in Ahlen
BEGIN:VALARM
ACTION:DISPLAY
TRIGGER:-P3D
SUMMARY:Get ready\, the hacking starts in 3 days.
END:VALARM
END:VEVENT
END:VCALENDAR
